BEGIN:VCALENDAR
VERSION:2.0
PRODID:-//Rajd - ECPv6.15.20//NONSGML v1.0//EN
CALSCALE:GREGORIAN
METHOD:PUBLISH
X-WR-CALNAME:Rajd
X-ORIGINAL-URL:https://www.kd-rajd.si
X-WR-CALDESC:Events for Rajd
REFRESH-INTERVAL;VALUE=DURATION:PT1H
X-Robots-Tag:noindex
X-PUBLISHED-TTL:PT1H
BEGIN:VTIMEZONE
TZID:Europe/Ljubljana
BEGIN:DAYLIGHT
TZOFFSETFROM:+0100
TZOFFSETTO:+0200
TZNAME:CEST
DTSTART:20240331T010000
END:DAYLIGHT
BEGIN:STANDARD
TZOFFSETFROM:+0200
TZOFFSETTO:+0100
TZNAME:CET
DTSTART:20241027T010000
END:STANDARD
BEGIN:DAYLIGHT
TZOFFSETFROM:+0100
TZOFFSETTO:+0200
TZNAME:CEST
DTSTART:20250330T010000
END:DAYLIGHT
BEGIN:STANDARD
TZOFFSETFROM:+0200
TZOFFSETTO:+0100
TZNAME:CET
DTSTART:20251026T010000
END:STANDARD
BEGIN:DAYLIGHT
TZOFFSETFROM:+0100
TZOFFSETTO:+0200
TZNAME:CEST
DTSTART:20260329T010000
END:DAYLIGHT
BEGIN:STANDARD
TZOFFSETFROM:+0200
TZOFFSETTO:+0100
TZNAME:CET
DTSTART:20261025T010000
END:STANDARD
END:VTIMEZONE
BEGIN:VEVENT
DTSTART;TZID=Europe/Ljubljana:20251009T160000
DTEND;TZID=Europe/Ljubljana:20251009T180000
DTSTAMP:20260423T215455
CREATED:20250325T100057Z
LAST-MODIFIED:20251009T093407Z
UID:20291-1760025600-1760032800@www.kd-rajd.si
SUMMARY:Gremo na kolo: Argeta Junior KoloPark Pokal Vič
DESCRIPTION:ZBIRNO MESTO: KoloPark Vič (https://maps.app.goo.gl/XvykbK8FpEQxzHR26) \nKoloParki so zabavni\, več kot primerni za vse mlade kolesarje in odlični za učenje tehnike vožnje. V Kolesarskem društvu Rajd jih z veseljem koristimo za kolesarsko šolo in druge aktivnosti\, seveda pa nadaljujemo tudi z zabavno-temovalno serijo Argeta Junior KoloPark Pokal. Z njo povežemo ljubljanske KoloPark ter predvsem nadebudne kolesarje. Pokal je v prvi vrsti namenjen otrokom in mladini\, dobrodošli pa ste seveda tudi vsi starejši/starši. \nVse prireditve v sklopu serije potekajo po enakem konceptu. Vsak udeleženec ima dve priložnosti odpeljati najhitrejši možen krog\, rezulat pa samo razglasimo ob vožnji in kasneje ne objavimo. Ker je dogodek predvsem zabavnega značaja\, so zmagovalci vsi prijavljeni in prav vsi prejmejo praktične nagrade\, na koncu vsake prireditve pa med vsemi prijavljenimi izžrebamo še kakšno večjo nagrado. \nProgram na dan prireditve:\n16.00-16.30 – Prijave\n16.30-17.00 – Trening\n17.00-18.00 – Tekmovanje\nSledi podelitev darilnih vrečk in zaključek \nVeč o pokalu: https://www.kd-rajd.si/kolopark-pokal/\nKoloPark Pokal na Facebooku: https://www.facebook.com/KDRajd/events \nAktualne novice o Argeta Junior KoloPark Pokalu so objavljena na Instagramu in Facebooku KD Rajd (@KDRajd). \n 
URL:https://www.kd-rajd.si/event/gremo-na-kolo-argeta-junior-kolopark-pokal-vic/
LOCATION:KoloPark Vič\, Cesta v Gorice 20\, Ljubljana\, 1000
CATEGORIES:Gremo na Kolo,Rekreacija
END:VEVENT
BEGIN:VEVENT
DTSTART;TZID=Europe/Ljubljana:20251016T160000
DTEND;TZID=Europe/Ljubljana:20251016T180000
DTSTAMP:20260423T215455
CREATED:20250908T080052Z
LAST-MODIFIED:20251009T095600Z
UID:21085-1760630400-1760637600@www.kd-rajd.si
SUMMARY:Gremo na kolo: Argeta Junior KoloPark Pokal Polje
DESCRIPTION:ZBIRNO MESTO: KoloPark Polje (https://maps.app.goo.gl/VQS1rizX6qxq3hqu8) \nKoloParki so zabavni\, več kot primerni za vse mlade kolesarje in odlični za učenje tehnike vožnje. V Kolesarskem društvu Rajd jih z veseljem koristimo za kolesarsko šolo in druge aktivnosti\, seveda pa nadaljujemo tudi z zabavno-temovalno serijo Argeta Junior KoloPark Pokal. Z njo povežemo ljubljanske KoloPark ter predvsem nadebudne kolesarje. Pokal je v prvi vrsti namenjen otrokom in mladini\, dobrodošli pa ste seveda tudi vsi starejši/starši. \nVse prireditve v sklopu serije potekajo po enakem konceptu. Vsak udeleženec ima dve priložnosti odpeljati najhitrejši možen krog\, rezulat pa samo razglasimo ob vožnji in kasneje ne objavimo. Ker je dogodek predvsem zabavnega značaja\, so zmagovalci vsi prijavljeni in prav vsi prejmejo praktične nagrade\, na koncu vsake prireditve pa med vsemi prijavljenimi izžrebamo še kakšno večjo nagrado. \nProgram na dan prireditve:\n16.00-16.30 – Prijave\n16.30-17.00 – Trening\n17.00-18.00 – Tekmovanje\nSledi podelitev darilnih vrečk in zaključek \nVeč o pokalu: https://www.kd-rajd.si/kolopark-pokal/\nKoloPark Pokal na Facebooku: https://www.facebook.com/KDRajd/events \nAktualne novice o Argeta Junior KoloPark Pokalu so objavljena na Instagramu in Facebooku KD Rajd (@KDRajd). \n 
URL:https://www.kd-rajd.si/event/gremo-na-kolo-argeta-junior-kolopark-pokal-polje-3/
LOCATION:KoloPark Polje\, Polje 357\, Ljubljana\, 1000
CATEGORIES:Gremo na Kolo,Rekreacija
END:VEVENT
END:VCALENDAR