BEGIN:VCALENDAR
VERSION:2.0
PRODID:-//Rajd - ECPv6.15.20//NONSGML v1.0//EN
CALSCALE:GREGORIAN
METHOD:PUBLISH
X-WR-CALNAME:Rajd
X-ORIGINAL-URL:https://www.kd-rajd.si
X-WR-CALDESC:Events for Rajd
REFRESH-INTERVAL;VALUE=DURATION:PT1H
X-Robots-Tag:noindex
X-PUBLISHED-TTL:PT1H
BEGIN:VTIMEZONE
TZID:Europe/Ljubljana
BEGIN:DAYLIGHT
TZOFFSETFROM:+0100
TZOFFSETTO:+0200
TZNAME:CEST
DTSTART:20240331T010000
END:DAYLIGHT
BEGIN:STANDARD
TZOFFSETFROM:+0200
TZOFFSETTO:+0100
TZNAME:CET
DTSTART:20241027T010000
END:STANDARD
BEGIN:DAYLIGHT
TZOFFSETFROM:+0100
TZOFFSETTO:+0200
TZNAME:CEST
DTSTART:20250330T010000
END:DAYLIGHT
BEGIN:STANDARD
TZOFFSETFROM:+0200
TZOFFSETTO:+0100
TZNAME:CET
DTSTART:20251026T010000
END:STANDARD
BEGIN:DAYLIGHT
TZOFFSETFROM:+0100
TZOFFSETTO:+0200
TZNAME:CEST
DTSTART:20260329T010000
END:DAYLIGHT
BEGIN:STANDARD
TZOFFSETFROM:+0200
TZOFFSETTO:+0100
TZNAME:CET
DTSTART:20261025T010000
END:STANDARD
END:VTIMEZONE
BEGIN:VEVENT
DTSTART;VALUE=DATE:20250905
DTEND;VALUE=DATE:20250908
DTSTAMP:20260423T234012
CREATED:20250225T112353Z
LAST-MODIFIED:20250225T112353Z
UID:20152-1757030400-1757289599@www.kd-rajd.si
SUMMARY:Ljubljana MTB Vikend 2025
DESCRIPTION:Festival bo potekal od 5. do 7. septembra v Bike Parku Ljubljana in parku Golovec trails. \nUradna spletna stran festivala z vsemi informacijami:\nwww.ljubljanamtbvikend.si \nLjubljana MTB Vikend na družabnih omrežjih:\nInstagram\nFacebook
URL:https://www.kd-rajd.si/event/ljubljana-mtb-vikend-2025/
LOCATION:Ljubljana
CATEGORIES:Rekreacija,SloEnduro,Tekmovanje
END:VEVENT
BEGIN:VEVENT
DTSTART;TZID=Europe/Ljubljana:20250918T163000
DTEND;TZID=Europe/Ljubljana:20250918T183000
DTSTAMP:20260423T234012
CREATED:20250325T132435Z
LAST-MODIFIED:20250914T131107Z
UID:20306-1758213000-1758220200@www.kd-rajd.si
SUMMARY:Gremo na kolo: Argeta Junior KoloPark Pokal Štepanjsko naselje (nov datum 18. 9.)
DESCRIPTION:ZBIRNO MESTO: KoloPark Štepanjsko naselje (https://maps.app.goo.gl/RgX4xikiPNxiJapL8) \nKoloParki so zabavni\, več kot primerni za vse mlade kolesarje in odlični za učenje tehnike vožnje. V Kolesarskem društvu Rajd jih z veseljem koristimo za kolesarsko šolo in druge aktivnosti\, seveda pa nadaljujemo tudi z zabavno-temovalno serijo Argeta Junior KoloPark Pokal. Z njo povežemo ljubljanske KoloPark ter predvsem nadebudne kolesarje. Pokal je v prvi vrsti namenjen otrokom in mladini\, dobrodošli pa ste seveda tudi vsi starejši/starši. \nVse prireditve v sklopu serije potekajo po enakem konceptu. Vsak udeleženec ima dve priložnosti odpeljati najhitrejši možen krog\, rezulat pa samo razglasimo ob vožnji in kasneje ne objavimo. Ker je dogodek predvsem zabavnega značaja\, so zmagovalci vsi prijavljeni in prav vsi prejmejo praktične nagrade\, na koncu vsake prireditve pa med vsemi prijavljenimi izžrebamo še kakšno večjo nagrado. \nProgram na dan prireditve:\n16.00-16.30 – Prijave\n16.30-16.00 – Trening\n17.00-18.00 – Tekmovanje\nSledi podelitev darilnih vrečk in zaključek \nVeč o pokalu: https://www.kd-rajd.si/kolopark-pokal/\nKoloPark Pokal na Facebooku: https://www.facebook.com/KDRajd/events \nAktualne novice o Argeta Junior KoloPark Pokalu so objavljena na Instagramu in Facebooku KD Rajd (@KDRajd).
URL:https://www.kd-rajd.si/event/gremo-na-kolo-argeta-junior-kolopark-pokal-stepanjsko-naselje/
LOCATION:KoloPark Štepanjsko naselje\, Parmska cesta 41\, Ljubljana\, 1000\, Slovenia
CATEGORIES:Gremo na Kolo,Rekreacija
END:VEVENT
BEGIN:VEVENT
DTSTART;TZID=Europe/Ljubljana:20250919T170000
DTEND;TZID=Europe/Ljubljana:20250919T180000
DTSTAMP:20260423T234012
CREATED:20250809T065505Z
LAST-MODIFIED:20250820T082737Z
UID:20999-1758301200-1758304800@www.kd-rajd.si
SUMMARY:Gremo na gorsko kolo: Začetni tečaj gorskega kolesarstva
DESCRIPTION:OBVEZNA PRIJAVA preko spletnega obrazca (klik); prijave so mogoče za tečaj\, ki bo potekal med 19. septembrom in 17. oktobrom (5 terminov – vsak petek ob 17:00 uri). \nZBIRNO MESTO: Bike Park Ljubljana (Podutik)\, pri pavilijonih (https://goo.gl/maps/smXJdoVAazca5vaCA) \nOPIS & NAVODILA: Program “Gremo na gorsko kolo” je brezplačen sklop enournih tečajev namenjenih odraslim rekreativnim kolesarjem začetnikom\, ki bi radi pridobili osnovna znanja za varno vožnjo z gorskim kolesom po urejenih gorskokolesarskih poteh. Program obsega 5 zaporednih vodenih terminov\, ki se vsebinsko dopolnjujejo: spoznavanje osnovne opreme kolesarja in kolesa\, osnovnih nastavitev in vzdrževanja kolesa ter osnovne tehnike vožnje z gorskim kolesom: ogrevanje\, osnovni položaj\, varno zaviranje in sestopanje s kolesa\, ravnotežje\, obremenjevanje in razbremenjevanje kolesa\, zavijanje in vožnja čez naravne ovire in preizkus pridobljenega znanja z vožnjo v naravnem okolju. \nTečaji so namenjeni vsem odraslim prebivalcem in prebivalkam Mestne občine Ljubljana\, ki se želijo naučiti pravilnih tehnik vožnje z gorskim kolesom. \nDelavnica je primerna tudi za e-kolesa. \nUdeleženci delavnice morajo biti stari najmanj 18 let. Število prijav je omejeno na 8 udeležencev. Udeleženci se aktivnosti udeležujejo na lastno odgovornost z zavedanjem tveganja\, ki ga s tem prevzamejo. \nGremo na gorsko kolo je brezplačen program\, ki ga financira Mestna občina Ljubljana. \nOBVEZNA OPREMA: Tehnično brezhibno gorsko kolo (vsaj sprednje vzmetenje\, kolesa s širokimi profiliranimi gumami\, delujoče zavore)\, obvezna čelada in primerna obutev in oblačila. Ostala zaščitna oprema je priporočljiva (rokavice\, kolenčniki\, komolčniki …).
URL:https://www.kd-rajd.si/event/gremo-na-gorsko-kolo-zacetni-tecaj-gorskega-kolesarstva-6/
CATEGORIES:Delavnica tehnike vožnje,Rekreacija
END:VEVENT
END:VCALENDAR