BEGIN:VCALENDAR
VERSION:2.0
PRODID:-//Rajd - ECPv6.15.20//NONSGML v1.0//EN
CALSCALE:GREGORIAN
METHOD:PUBLISH
X-ORIGINAL-URL:https://www.kd-rajd.si
X-WR-CALDESC:Events for Rajd
REFRESH-INTERVAL;VALUE=DURATION:PT1H
X-Robots-Tag:noindex
X-PUBLISHED-TTL:PT1H
BEGIN:VTIMEZONE
TZID:Europe/Ljubljana
BEGIN:DAYLIGHT
TZOFFSETFROM:+0100
TZOFFSETTO:+0200
TZNAME:CEST
DTSTART:20240331T010000
END:DAYLIGHT
BEGIN:STANDARD
TZOFFSETFROM:+0200
TZOFFSETTO:+0100
TZNAME:CET
DTSTART:20241027T010000
END:STANDARD
BEGIN:DAYLIGHT
TZOFFSETFROM:+0100
TZOFFSETTO:+0200
TZNAME:CEST
DTSTART:20250330T010000
END:DAYLIGHT
BEGIN:STANDARD
TZOFFSETFROM:+0200
TZOFFSETTO:+0100
TZNAME:CET
DTSTART:20251026T010000
END:STANDARD
BEGIN:DAYLIGHT
TZOFFSETFROM:+0100
TZOFFSETTO:+0200
TZNAME:CEST
DTSTART:20260329T010000
END:DAYLIGHT
BEGIN:STANDARD
TZOFFSETFROM:+0200
TZOFFSETTO:+0100
TZNAME:CET
DTSTART:20261025T010000
END:STANDARD
END:VTIMEZONE
BEGIN:VEVENT
DTSTART;TZID=Europe/Ljubljana:20250605T170000
DTEND;TZID=Europe/Ljubljana:20250605T190000
DTSTAMP:20260424T042559
CREATED:20250325T100738Z
LAST-MODIFIED:20250325T100738Z
UID:20299-1749142800-1749150000@www.kd-rajd.si
SUMMARY:Gremo na kolo: Argeta Junior KoloPark Pokal Nove Fužine
DESCRIPTION:ZBIRNO MESTO: KoloPark Nove Fužine (https://maps.app.goo.gl/ewUEFNUrNXQjxxt4A) \nKoloParki so zabavni\, več kot primerni za vse mlade kolesarje in odlični za učenje tehnike vožnje. V Kolesarskem društvu Rajd jih z veseljem koristimo za kolesarsko šolo in druge aktivnosti\, seveda pa nadaljujemo tudi z zabavno-temovalno serijo Argeta Junior KoloPark Pokal. Z njo povežemo ljubljanske KoloPark ter predvsem nadebudne kolesarje. Pokal je v prvi vrsti namenjen otrokom in mladini\, dobrodošli pa ste seveda tudi vsi starejši/starši. \nVse prireditve v sklopu serije potekajo po enakem konceptu. Vsak udeleženec ima dve priložnosti odpeljati najhitrejši možen krog\, rezulat pa samo razglasimo ob vožnji in kasneje ne objavimo. Ker je dogodek predvsem zabavnega značaja\, so zmagovalci vsi prijavljeni in prav vsi prejmejo praktične nagrade\, na koncu vsake prireditve pa med vsemi prijavljenimi izžrebamo še kakšno večjo nagrado. \nProgram na dan prireditve:\n17.00-17.30 – Prijave\n17.30-18.00 – Trening\n18.00-19.00 – Tekmovanje\nSledi podelitev darilnih vrečk in zaključek \nVeč o pokalu: https://www.kd-rajd.si/kolopark-pokal/\nKoloPark Pokal na Facebooku: https://www.facebook.com/KDRajd/events \nAktualne novice o Argeta Junior KoloPark Pokalu so objavljena na Instagramu in Facebooku KD Rajd (@KDRajd).
URL:https://www.kd-rajd.si/event/gremo-na-kolo-argeta-junior-kolopark-pokal-nove-fuzine/
LOCATION:Kolopark Nove Fužine\, Slovenija
CATEGORIES:Gremo na Kolo,Rekreacija
END:VEVENT
BEGIN:VEVENT
DTSTART;TZID=Europe/Ljubljana:20250605T173000
DTEND;TZID=Europe/Ljubljana:20250605T183000
DTSTAMP:20260424T042559
CREATED:20250530T205834Z
LAST-MODIFIED:20250530T205834Z
UID:20758-1749144600-1749148200@www.kd-rajd.si
SUMMARY:Gremo na gorsko kolo: Začetni tečaj gorskega kolesarstva
DESCRIPTION:OBVEZNA PRIJAVA preko spletnega obrazca (klik); prijave so mogoče za tečaj\, ki bo potekal med 21. avgustom in 18. septembrom (5 terminov – vsak četrtek ob 17:30 uri) in za tečaj\, ki bo potekal med 25. septembrom in 23. oktobrom (5 terminov – vsak četrtek ob 17:30 uri). \nZBIRNO MESTO: Bike Park Ljubljana (Podutik)\, pri pavilijonih (https://goo.gl/maps/smXJdoVAazca5vaCA) \nOPIS & NAVODILA: Program “Gremo na gorsko kolo” je brezplačen sklop enournih tečajev namenjenih odraslim rekreativnim kolesarjem začetnikom\, ki bi radi pridobili osnovna znanja za varno vožnjo z gorskim kolesom po urejenih gorskokolesarskih poteh. Program obsega 5 zaporednih vodenih terminov\, ki se vsebinsko dopolnjujejo: spoznavanje osnovne opreme kolesarja in kolesa\, osnovnih nastavitev in vzdrževanja kolesa ter osnovne tehnike vožnje z gorskim kolesom: ogrevanje\, osnovni položaj\, varno zaviranje in sestopanje s kolesa\, ravnotežje\, obremenjevanje in razbremenjevanje kolesa\, zavijanje in vožnja čez naravne ovire in preizkus pridobljenega znanja z vožnjo v naravnem okolju. \nTečaji so namenjeni vsem odraslim prebivalcem in prebivalkam Mestne občine Ljubljana\, ki se želijo naučiti pravilnih tehnik vožnje z gorskim kolesom. \nDelavnica je primerna tudi za e-kolesa. \nUdeleženci delavnice morajo biti stari najmanj 18 let. Število prijav je omejeno na 8 udeležencev. Udeleženci se aktivnosti udeležujejo na lastno odgovornost z zavedanjem tveganja\, ki ga s tem prevzamejo. \nGremo na gorsko kolo je brezplačen program\, ki ga financira Mestna občina Ljubljana. \nOBVEZNA OPREMA: Tehnično brezhibno gorsko kolo (vsaj sprednje vzmetenje\, kolesa s širokimi profiliranimi gumami\, delujoče zavore)\, obvezna čelada in primerna obutev in oblačila. Ostala zaščitna oprema je priporočljiva (rokavice\, kolenčniki\, komolčniki …).
URL:https://www.kd-rajd.si/event/gremo-na-gorsko-kolo-zacetni-tecaj-gorskega-kolesarstva-2/
LOCATION:Bike Park Ljubljana\, Podutiška cesta 209\, Ljubljana\, 1000\, Slovenia
CATEGORIES:Gremo na Kolo,Rekreacija
END:VEVENT
BEGIN:VEVENT
DTSTART;TZID=Europe/Ljubljana:20250606T160000
DTEND;TZID=Europe/Ljubljana:20250606T170000
DTSTAMP:20260424T042559
CREATED:20250530T205837Z
LAST-MODIFIED:20250530T205837Z
UID:20756-1749225600-1749229200@www.kd-rajd.si
SUMMARY:Šport je lajv: Brezplačna delavnica pumpanja za mlade
DESCRIPTION:ZBIRNO MESTO: KoloPark Polje\, lokacija Google Maps \nOPIS & NAVODILA: Delavnica je namenjena vsem mladim obiskovalcem KoloParka\, ki se želijo naučiti pravilne tehnike vožnje s kolesom v koloparku (»pumpanje«)\, si pridobiti izkušnje in dodatna znanja. Skupaj bomo spoznavali pravila uporabe poligona in pomena zaščitne opreme (čelada\, ščitniki …) ter se naučili osnovne tehnike pumpanja\, pravilne vožnje po poligonu\, kako obvladovati bande in valove ter različne objekte na progi povezati v celoto. Pump track poligon je odličen teren za spoznavanje osnovnih tehnik kolesarstva in nadgrajevanje znanja\, ki ga uporabljamo tudi pri vožnji na cesti in/ali v naravi. \nUdeleženci se aktivnosti udeležujejo na lastno odgovornost z zavedanjem tveganja\, ki ga s tem prevzamejo. Brezplačen program za mlade\, ki ga financira Mestna občina Ljubljana in poteka pod sloganom »Šport je lajv«\, je namenjen mladim prebivalkam in prebivalcem Ljubljane in jih spodbuja\, da se po zaključku šolskih obveznosti udeležijo športnih aktivnosti ter jim omogoča aktivno sprostitev in druženje v športnem okolju\, ki krepi spoštljive in empatične medosebne odnose. \nOBVEZNA OPREMA: ustrezno kolo in čelada; ostala zaščitna oprema je priporočljiva.
URL:https://www.kd-rajd.si/event/sport-je-lajv-brezplacna-delavnica-pumpanja-za-mlade-3/
LOCATION:KoloPark Polje\, Polje 357\, Ljubljana\, 1000
CATEGORIES:Delavnica tehnike vožnje,Furanje,Rekreacija
END:VEVENT
BEGIN:VEVENT
DTSTART;TZID=Europe/Ljubljana:20250606T173000
DTEND;TZID=Europe/Ljubljana:20250606T190000
DTSTAMP:20260424T042559
CREATED:20250530T205754Z
LAST-MODIFIED:20250530T205754Z
UID:20754-1749231000-1749236400@www.kd-rajd.si
SUMMARY:Bike & Beer Friday No.6 - vodeni MTB izlet po Klobuku ali Toškem Čelu ali Šentviškem hribu
DESCRIPTION:OBVEZNA PRIJAVA preko spletnega obrazca (klik) \nZBIRNO MESTO: Bike park Ljubljana  https://goo.gl/maps/smXJdoVAazca5vaCA \nOPIS & NAVODILA: Dobimo se v BP Podutik\, se razgledamo naokoli in odločimo\, ali jo mahnemo na Klobuk\, Toško Čelo ali Šentviški hrib – trejlov je dovolj za vsak okus in nivo znanja. Seveda se bomo prilagodili skupini\, vsekakor pa bomo rajd zaključili\, kot se spodobi – ob kozarcu hladnega! \nTura je primerna tudi za e-gorska kolesa. \nUdeleženci se aktivnosti udeležujejo na lastno odgovornost z zavedanjem tveganja\, ki ga s tem prevzamejo. \nV primeru slabe vremenske napovedi bo tura prestavljena na naslednji petek. Prijavljeni na turo bodo o tem pravočasno obveščeni. \nKontakt: luka.omahen@gmail.com; 070 84 81 81. \nOBVEZNA OPREMA: Običajna oprema za gorsko kolesarjenje. Brezhibno gorsko kolo z vsaj sprednjim vzmetenjem\, s profiliranimi plašči (širina nad 2.2cm)\, kolesarska čelada\, zaščitne rokavice\, zaščitna očala\, nahrbtnik\, rezervna zračnica\, priročno orodje\, set prve pomoči\, osebni dokument in zdravstvena kartica.
URL:https://www.kd-rajd.si/event/bike-beer-friday-no-6-vodeni-mtb-izlet-po-klobuku-ali-toskem-celu-ali-sentviskem-hribu/
LOCATION:Bike Park Ljubljana\, Podutiška cesta 209\, Ljubljana\, 1000\, Slovenia
CATEGORIES:MTB izlet
END:VEVENT
BEGIN:VEVENT
DTSTART;TZID=Europe/Ljubljana:20250612T173000
DTEND;TZID=Europe/Ljubljana:20250612T183000
DTSTAMP:20260424T042559
CREATED:20250606T161206Z
LAST-MODIFIED:20250606T161206Z
UID:20788-1749749400-1749753000@www.kd-rajd.si
SUMMARY:Gremo na gorsko kolo: Začetni tečaj gorskega kolesarstva
DESCRIPTION:OBVEZNA PRIJAVA preko spletnega obrazca (klik); prijave so mogoče za tečaj\, ki bo potekal med 21. avgustom in 18. septembrom (5 terminov – vsak četrtek ob 17:30 uri) in za tečaj\, ki bo potekal med 25. septembrom in 23. oktobrom (5 terminov – vsak četrtek ob 17:30 uri). \nZBIRNO MESTO: Bike Park Ljubljana (Podutik)\, pri pavilijonih (https://goo.gl/maps/smXJdoVAazca5vaCA) \nOPIS & NAVODILA: Program “Gremo na gorsko kolo” je brezplačen sklop enournih tečajev namenjenih odraslim rekreativnim kolesarjem začetnikom\, ki bi radi pridobili osnovna znanja za varno vožnjo z gorskim kolesom po urejenih gorskokolesarskih poteh. Program obsega 5 zaporednih vodenih terminov\, ki se vsebinsko dopolnjujejo: spoznavanje osnovne opreme kolesarja in kolesa\, osnovnih nastavitev in vzdrževanja kolesa ter osnovne tehnike vožnje z gorskim kolesom: ogrevanje\, osnovni položaj\, varno zaviranje in sestopanje s kolesa\, ravnotežje\, obremenjevanje in razbremenjevanje kolesa\, zavijanje in vožnja čez naravne ovire in preizkus pridobljenega znanja z vožnjo v naravnem okolju. \nTečaji so namenjeni vsem odraslim prebivalcem in prebivalkam Mestne občine Ljubljana\, ki se želijo naučiti pravilnih tehnik vožnje z gorskim kolesom. \nDelavnica je primerna tudi za e-kolesa. \nUdeleženci delavnice morajo biti stari najmanj 18 let. Število prijav je omejeno na 8 udeležencev. Udeleženci se aktivnosti udeležujejo na lastno odgovornost z zavedanjem tveganja\, ki ga s tem prevzamejo. \nGremo na gorsko kolo je brezplačen program\, ki ga financira Mestna občina Ljubljana. \nOBVEZNA OPREMA: Tehnično brezhibno gorsko kolo (vsaj sprednje vzmetenje\, kolesa s širokimi profiliranimi gumami\, delujoče zavore)\, obvezna čelada in primerna obutev in oblačila. Ostala zaščitna oprema je priporočljiva (rokavice\, kolenčniki\, komolčniki …).
URL:https://www.kd-rajd.si/event/gremo-na-gorsko-kolo-zacetni-tecaj-gorskega-kolesarstva-3/
LOCATION:Bike Park Ljubljana\, Podutiška cesta 209\, Ljubljana\, 1000\, Slovenia
CATEGORIES:Gremo na Kolo,Rekreacija
END:VEVENT
BEGIN:VEVENT
DTSTART;TZID=Europe/Ljubljana:20250613T160000
DTEND;TZID=Europe/Ljubljana:20250613T170000
DTSTAMP:20260424T042559
CREATED:20250606T161151Z
LAST-MODIFIED:20250606T161151Z
UID:20786-1749830400-1749834000@www.kd-rajd.si
SUMMARY:Šport je lajv: Brezplačna delavnica pumpanja za mlade
DESCRIPTION:ZBIRNO MESTO: KoloPark Polje\, lokacija Google Maps \nOPIS & NAVODILA: Delavnica je namenjena vsem mladim obiskovalcem KoloParka\, ki se želijo naučiti pravilne tehnike vožnje s kolesom v koloparku (»pumpanje«)\, si pridobiti izkušnje in dodatna znanja. Skupaj bomo spoznavali pravila uporabe poligona in pomena zaščitne opreme (čelada\, ščitniki …) ter se naučili osnovne tehnike pumpanja\, pravilne vožnje po poligonu\, kako obvladovati bande in valove ter različne objekte na progi povezati v celoto. Pump track poligon je odličen teren za spoznavanje osnovnih tehnik kolesarstva in nadgrajevanje znanja\, ki ga uporabljamo tudi pri vožnji na cesti in/ali v naravi. \nUdeleženci se aktivnosti udeležujejo na lastno odgovornost z zavedanjem tveganja\, ki ga s tem prevzamejo. Brezplačen program za mlade\, ki ga financira Mestna občina Ljubljana in poteka pod sloganom »Šport je lajv«\, je namenjen mladim prebivalkam in prebivalcem Ljubljane in jih spodbuja\, da se po zaključku šolskih obveznosti udeležijo športnih aktivnosti ter jim omogoča aktivno sprostitev in druženje v športnem okolju\, ki krepi spoštljive in empatične medosebne odnose. \nOBVEZNA OPREMA: ustrezno kolo in čelada; ostala zaščitna oprema je priporočljiva.
URL:https://www.kd-rajd.si/event/sport-je-lajv-brezplacna-delavnica-pumpanja-za-mlade-4/
LOCATION:KoloPark Polje\, Polje 357\, Ljubljana\, 1000
CATEGORIES:Delavnica tehnike vožnje,Furanje,Rekreacija
END:VEVENT
BEGIN:VEVENT
DTSTART;TZID=Europe/Ljubljana:20250620T170000
DTEND;TZID=Europe/Ljubljana:20250620T190000
DTSTAMP:20260424T042559
CREATED:20250325T131735Z
LAST-MODIFIED:20250325T131735Z
UID:20301-1750438800-1750446000@www.kd-rajd.si
SUMMARY:Gremo na kolo: Argeta Junior KoloPark Pokal Aleja
DESCRIPTION:ZBIRNO MESTO: KoloPark Aleja\, nakupovalno središče Aleja (https://maps.app.goo.gl/UXPeb4c261j6HgK87) \nKoloParki so zabavni\, več kot primerni za vse mlade kolesarje in odlični za učenje tehnike vožnje. V Kolesarskem društvu Rajd jih z veseljem koristimo za kolesarsko šolo in druge aktivnosti\, seveda pa nadaljujemo tudi z zabavno-temovalno serijo Argeta Junior KoloPark Pokal. Z njo povežemo ljubljanske KoloPark ter predvsem nadebudne kolesarje. Pokal je v prvi vrsti namenjen otrokom in mladini\, dobrodošli pa ste seveda tudi vsi starejši/starši. \nVse prireditve v sklopu serije potekajo po enakem konceptu. Vsak udeleženec ima dve priložnosti odpeljati najhitrejši možen krog\, rezulat pa samo razglasimo ob vožnji in kasneje ne objavimo. Ker je dogodek predvsem zabavnega značaja\, so zmagovalci vsi prijavljeni in prav vsi prejmejo praktične nagrade\, na koncu vsake prireditve pa med vsemi prijavljenimi izžrebamo še kakšno večjo nagrado. \nProgram na dan prireditve:\n17.00-17.30 – Prijave\n17.30-18.00 – Trening\n18.00-19.00 – Tekmovanje\nSledi podelitev darilnih vrečk in zaključek \nVeč o pokalu: https://www.kd-rajd.si/kolopark-pokal/\nKoloPark Pokal na Facebooku: https://www.facebook.com/KDRajd/events \nAktualne novice o Argeta Junior KoloPark Pokalu so objavljena na Instagramu in Facebooku KD Rajd (@KDRajd).
URL:https://www.kd-rajd.si/event/gremo-na-kolo-argeta-junior-kolopark-pokal-aleja/
LOCATION:Nakupovalno središče Aleja\, Rakuševa ulica 1\, Ljubljana\, 1000
CATEGORIES:Gremo na Kolo,Rekreacija
END:VEVENT
END:VCALENDAR