BEGIN:VCALENDAR
VERSION:2.0
PRODID:-//Rajd - ECPv6.15.20//NONSGML v1.0//EN
CALSCALE:GREGORIAN
METHOD:PUBLISH
X-ORIGINAL-URL:https://www.kd-rajd.si
X-WR-CALDESC:Events for Rajd
REFRESH-INTERVAL;VALUE=DURATION:PT1H
X-Robots-Tag:noindex
X-PUBLISHED-TTL:PT1H
BEGIN:VTIMEZONE
TZID:Europe/Ljubljana
BEGIN:DAYLIGHT
TZOFFSETFROM:+0100
TZOFFSETTO:+0200
TZNAME:CEST
DTSTART:20240331T010000
END:DAYLIGHT
BEGIN:STANDARD
TZOFFSETFROM:+0200
TZOFFSETTO:+0100
TZNAME:CET
DTSTART:20241027T010000
END:STANDARD
BEGIN:DAYLIGHT
TZOFFSETFROM:+0100
TZOFFSETTO:+0200
TZNAME:CEST
DTSTART:20250330T010000
END:DAYLIGHT
BEGIN:STANDARD
TZOFFSETFROM:+0200
TZOFFSETTO:+0100
TZNAME:CET
DTSTART:20251026T010000
END:STANDARD
BEGIN:DAYLIGHT
TZOFFSETFROM:+0100
TZOFFSETTO:+0200
TZNAME:CEST
DTSTART:20260329T010000
END:DAYLIGHT
BEGIN:STANDARD
TZOFFSETFROM:+0200
TZOFFSETTO:+0100
TZNAME:CET
DTSTART:20261025T010000
END:STANDARD
END:VTIMEZONE
BEGIN:VEVENT
DTSTART;TZID=Europe/Ljubljana:20250508T170000
DTEND;TZID=Europe/Ljubljana:20250508T190000
DTSTAMP:20260424T055822
CREATED:20250325T100425Z
LAST-MODIFIED:20250325T100425Z
UID:20295-1746723600-1746730800@www.kd-rajd.si
SUMMARY:Gremo na kolo: Argeta Junior KoloPark Pokal Polje
DESCRIPTION:ZBIRNO MESTO: KoloPark Polje (https://maps.app.goo.gl/4cWjdTAFyi71jgdG7) \nKoloParki so zabavni\, več kot primerni za vse mlade kolesarje in odlični za učenje tehnike vožnje. V Kolesarskem društvu Rajd jih z veseljem koristimo za kolesarsko šolo in druge aktivnosti\, seveda pa nadaljujemo tudi z zabavno-temovalno serijo Argeta Junior KoloPark Pokal. Z njo povežemo ljubljanske KoloPark ter predvsem nadebudne kolesarje. Pokal je v prvi vrsti namenjen otrokom in mladini\, dobrodošli pa ste seveda tudi vsi starejši/starši. \nVse prireditve v sklopu serije potekajo po enakem konceptu. Vsak udeleženec ima dve priložnosti odpeljati najhitrejši možen krog\, rezulat pa samo razglasimo ob vožnji in kasneje ne objavimo. Ker je dogodek predvsem zabavnega značaja\, so zmagovalci vsi prijavljeni in prav vsi prejmejo praktične nagrade\, na koncu vsake prireditve pa med vsemi prijavljenimi izžrebamo še kakšno večjo nagrado. \nProgram na dan prireditve:\n17.00-17.30 – Prijave\n17.30-18.00 – Trening\n18.00-19.00 – Tekmovanje\nSledi podelitev darilnih vrečk in zaključek \nVeč o pokalu: https://www.kd-rajd.si/kolopark-pokal/\nKoloPark Pokal na Facebooku: https://www.facebook.com/KDRajd/events \nAktualne novice o Argeta Junior KoloPark Pokalu so objavljena na Instagramu in Facebooku KD Rajd (@KDRajd).
URL:https://www.kd-rajd.si/event/gremo-na-kolo-argeta-junior-kolopark-pokal-polje-2/
LOCATION:KoloPark Polje\, Polje 357\, Ljubljana\, 1000
CATEGORIES:Gremo na Kolo,Rekreacija
END:VEVENT
BEGIN:VEVENT
DTSTART;TZID=Europe/Ljubljana:20250509T173000
DTEND;TZID=Europe/Ljubljana:20250509T183000
DTSTAMP:20260424T055822
CREATED:20250501T215846Z
LAST-MODIFIED:20250501T215917Z
UID:20482-1746811800-1746815400@www.kd-rajd.si
SUMMARY:Skupinski trening pred zabavnim tekmovanjem Argeta Junior KoloPark Pokal Nove Fužine
DESCRIPTION:ZBIRNO MESTO: KoloPark Nove Fužine (https://maps.app.goo.gl/jMUMWy4hZgGnfAEr8) \nOPIS & NAVODILA: Pred vsako izmed prireditev v sklopu serije Argeta Junior KoloPark Pokal se bomo na terenu dobili z Rajdovim učiteljem in se naučili še bolje premagovati grbine in bande. Učitelj bo brezplačno učil tehniko vožnje\, izbiro linij in samo uporabo KoloParka. Delavnice se lahko udeležite tudi\, če ne boste prišli na KoloPark Pokal\, važno je druženje in učenje. \nOBVEZNA OPREMA: Ustrezno kolo in čelada; ostala zaščitna oprema je priporočljiva.
URL:https://www.kd-rajd.si/event/skupinski-trening-pred-zabavnim-tekmovanjem-argeta-junior-kolopark-pokal-fuzine/
LOCATION:Kolopark Nove Fužine\, Slovenija
CATEGORIES:Gremo na Kolo,Rekreacija
END:VEVENT
BEGIN:VEVENT
DTSTART;TZID=Europe/Ljubljana:20250513T180000
DTEND;TZID=Europe/Ljubljana:20250513T190000
DTSTAMP:20260424T055822
CREATED:20250510T071422Z
LAST-MODIFIED:20250510T071422Z
UID:20528-1747159200-1747162800@www.kd-rajd.si
SUMMARY:Skupinski trening pred zabavnim tekmovanjem Argeta Junior KoloPark Pokal Vič
DESCRIPTION:ZBIRNO MESTO: KoloPark Vič (https://maps.app.goo.gl/5QSFscABFhdWSsTE8) \nOPIS & NAVODILA: Pred vsako izmed prireditev v sklopu serije Argeta Junior KoloPark Pokal se bomo na terenu dobili z Rajdovim učiteljem in se naučili še bolje premagovati grbine in bande. Učitelj bo brezplačno učil tehniko vožnje\, izbiro linij in samo uporabo KoloParka. Delavnice se lahko udeležite tudi\, če ne boste prišli na KoloPark Pokal\, važno je druženje in učenje. \nOBVEZNA OPREMA: Ustrezno kolo in čelada; ostala zaščitna oprema je priporočljiva.
URL:https://www.kd-rajd.si/event/skupinski-trening-pred-zabavnim-tekmovanjem-argeta-junior-kolopark-pokal-vic-2/
LOCATION:KoloPark Vič\, Cesta v Gorice 20\, Ljubljana\, 1000
CATEGORIES:Delavnica tehnike vožnje,Gremo na Kolo
END:VEVENT
BEGIN:VEVENT
DTSTART;TZID=Europe/Ljubljana:20250516T173000
DTEND;TZID=Europe/Ljubljana:20250516T190000
DTSTAMP:20260424T055822
CREATED:20250510T071513Z
LAST-MODIFIED:20250510T071513Z
UID:20526-1747416600-1747422000@www.kd-rajd.si
SUMMARY:Bike & Beer Friday No.4 - vodeni MTB izlet po Klobuku / Toškem Čelu / Šentviškem hribu
DESCRIPTION:OBVEZNA PRIJAVA preko spletnega obrazca (klik) \nZBIRNO MESTO: Bike Park Ljubljana\, Podutik  (https://goo.gl/maps/smXJdoVAazca5vaCA) \nOPIS & NAVODILA: Dobimo se v BP Podutik\, se razgledamo naokoli in odločimo\, ali jo mahnemo na Klobuk\, Toško Čelo ali Šentviški hrib – trejlov je dovolj za vsak okus in nivo znanja. Seveda se bomo prilagodili skupini\, vsekakor pa bomo rajd zaključili\, kot se spodobi – ob kozarcu hladnega! \nTura je primerna tudi za e-gorska kolesa. \nUdeleženci se aktivnosti udeležujejo na lastno odgovornost z zavedanjem tveganja\, ki ga s tem prevzamejo. \nV primeru slabe vremenske napovedi bo tura prestavljena na naslednji petek. Prijavljeni na turo bodo o tem pravočasno obveščeni. \nKontakt: luka.omahen@gmail.com; 070 84 81 81. \nOBVEZNA OPREMA: Običajna oprema za gorsko kolesarjenje. Brezhibno gorsko kolo z vsaj sprednjim vzmetenjem\, s profiliranimi plašči (širina nad 2.2cm)\, kolesarska čelada\, zaščitne rokavice\, zaščitna očala\, nahrbtnik\, rezervna zračnica\, priročno orodje\, set prve pomoči\, osebni dokument in zdravstvena kartica.
URL:https://www.kd-rajd.si/event/bike-beer-friday-no-4-vodeni-mtb-izlet-po-klobuku-toskem-celu-sentviskem-hribu/
LOCATION:Bike Park Ljubljana\, Podutiška cesta 209\, Ljubljana\, 1000\, Slovenia
CATEGORIES:MTB izlet
END:VEVENT
BEGIN:VEVENT
DTSTART;TZID=Europe/Ljubljana:20250529T173000
DTEND;TZID=Europe/Ljubljana:20250529T183000
DTSTAMP:20260424T055822
CREATED:20250517T161410Z
LAST-MODIFIED:20250525T060442Z
UID:20558-1748539800-1748543400@www.kd-rajd.si
SUMMARY:Gremo na gorsko kolo: Začetni tečaj gorskega kolesarstva
DESCRIPTION:OBVEZNA PRIJAVA preko spletnega obrazca (klik) \nZBIRNO MESTO: Bike Park Ljubljana (Podutik)\, pri pavilijonih (https://goo.gl/maps/smXJdoVAazca5vaCA) \nOPIS & NAVODILA: Program “Gremo na gorsko kolo” je brezplačen sklop enournih tečajev namenjenih odraslim rekreativnim kolesarjem začetnikom\, ki bi radi pridobili osnovna znanja za varno vožnjo z gorskim kolesom po urejenih gorskokolesarskih poteh. Program obsega 5 zaporednih vodenih terminov\, ki se vsebinsko dopolnjujejo: spoznavanje osnovne opreme kolesarja in kolesa\, osnovnih nastavitev in vzdrževanja kolesa ter osnovne tehnike vožnje z gorskim kolesom: ogrevanje\, osnovni položaj\, varno zaviranje in sestopanje s kolesa\, ravnotežje\, obremenjevanje in razbremenjevanje kolesa\, zavijanje in vožnja čez naravne ovire in preizkus pridobljenega znanja z vožnjo v naravnem okolju. \nTečaji so namenjeni vsem odraslim prebivalcem in prebivalkam Mestne občine Ljubljana\, ki se želijo naučiti pravilnih tehnik vožnje z gorskim kolesom. \nDelavnica je primerna tudi za e-kolesa. \nUdeleženci delavnice morajo biti stari najmanj 18 let. Število prijav je omejeno na 8 udeležencev. Udeleženci se aktivnosti udeležujejo na lastno odgovornost z zavedanjem tveganja\, ki ga s tem prevzamejo. \nGremo na gorsko kolo je brezplačen program\, ki ga financira Mestna občina Ljubljana. \nOBVEZNA OPREMA: Tehnično brezhibno gorsko kolo (vsaj sprednje vzmetenje\, kolesa s širokimi profiliranimi gumami\, delujoče zavore)\, obvezna čelada in primerna obutev in oblačila. Ostala zaščitna oprema je priporočljiva (rokavice\, kolenčniki\, komolčniki …).
URL:https://www.kd-rajd.si/event/gremo-na-gorsko-kolo-zacetni-tecaj-gorskega-kolesarstva/
LOCATION:Bike Park Ljubljana\, Podutiška cesta 209\, Ljubljana\, 1000\, Slovenia
CATEGORIES:Gremo na Kolo,Rekreacija
END:VEVENT
BEGIN:VEVENT
DTSTART;TZID=Europe/Ljubljana:20250530T173000
DTEND;TZID=Europe/Ljubljana:20250530T193000
DTSTAMP:20260424T055822
CREATED:20250517T161251Z
LAST-MODIFIED:20250525T060510Z
UID:20556-1748626200-1748633400@www.kd-rajd.si
SUMMARY:Bike & Beer Friday No.5 - vodeni MTB izlet po Golovcu
DESCRIPTION:OBVEZNA PRIJAVA preko spletnega obrazca (klik) \nZBIRNO MESTO: Urban Ring Ljubljana\, ob Dolenjski cesti  (https://goo.gl/maps/Qm1BsyVNwFq7Ednv7) \nOPIS & NAVODILA: Tokrat bomo teden “začinili” s skokom na Golovec\, kjer je zabavnih stezic več kot dovolj. Po turi seveda sledi regeneracija ob kozarčku piva. \nTura je primerna tudi za e-gorska kolesa. \nUdeleženci se aktivnosti udeležujejo na lastno odgovornost z zavedanjem tveganja\, ki ga s tem prevzamejo. \nV primeru slabe vremenske napovedi bo tura prestavljena na naslednji petek. Prijavljeni na turo bodo o tem pravočasno obveščeni. \nKontakt: luka.omahen@gmail.com; 070 84 81 81. \nOBVEZNA OPREMA: Običajna oprema za gorsko kolesarjenje. Brezhibno gorsko kolo z vsaj sprednjim vzmetenjem\, s profiliranimi plašči (širina nad 2.2cm)\, kolesarska čelada\, zaščitne rokavice\, zaščitna očala\, nahrbtnik\, rezervna zračnica\, priročno orodje\, set prve pomoči\, osebni dokument in zdravstvena kartica.
URL:https://www.kd-rajd.si/event/bike-beer-friday-no-5-vodeni-mtb-izlet-po-golovcu/
LOCATION:Golovec\, Slovenija
CATEGORIES:MTB izlet
END:VEVENT
END:VCALENDAR