BEGIN:VCALENDAR
VERSION:2.0
PRODID:-//Rajd - ECPv6.15.20//NONSGML v1.0//EN
CALSCALE:GREGORIAN
METHOD:PUBLISH
X-WR-CALNAME:Rajd
X-ORIGINAL-URL:https://www.kd-rajd.si
X-WR-CALDESC:Events for Rajd
REFRESH-INTERVAL;VALUE=DURATION:PT1H
X-Robots-Tag:noindex
X-PUBLISHED-TTL:PT1H
BEGIN:VTIMEZONE
TZID:Europe/Ljubljana
BEGIN:DAYLIGHT
TZOFFSETFROM:+0100
TZOFFSETTO:+0200
TZNAME:CEST
DTSTART:20230326T010000
END:DAYLIGHT
BEGIN:STANDARD
TZOFFSETFROM:+0200
TZOFFSETTO:+0100
TZNAME:CET
DTSTART:20231029T010000
END:STANDARD
BEGIN:DAYLIGHT
TZOFFSETFROM:+0100
TZOFFSETTO:+0200
TZNAME:CEST
DTSTART:20240331T010000
END:DAYLIGHT
BEGIN:STANDARD
TZOFFSETFROM:+0200
TZOFFSETTO:+0100
TZNAME:CET
DTSTART:20241027T010000
END:STANDARD
BEGIN:DAYLIGHT
TZOFFSETFROM:+0100
TZOFFSETTO:+0200
TZNAME:CEST
DTSTART:20250330T010000
END:DAYLIGHT
BEGIN:STANDARD
TZOFFSETFROM:+0200
TZOFFSETTO:+0100
TZNAME:CET
DTSTART:20251026T010000
END:STANDARD
END:VTIMEZONE
BEGIN:VEVENT
DTSTART;TZID=Europe/Ljubljana:20241129T160000
DTEND;TZID=Europe/Ljubljana:20241129T170000
DTSTAMP:20260424T135725
CREATED:20241126T110614Z
LAST-MODIFIED:20241126T110746Z
UID:19727-1732896000-1732899600@www.kd-rajd.si
SUMMARY:Delavnica tehnike vožnje: pumpanje z Borisom Režabkom
DESCRIPTION:OBVEZNA PRIJAVA preko spletnega obrazca (klik) \nZBIRNO MESTO: KoloPark Bežigrad (https://maps.app.goo.gl/wQqaJVjiZ3UeGS5H6) \nOPIS & NAVODILA: Delavnica je namenjena vsem\, ki se želite naučiti osnovne tehnike pumpanja in spoznati kako se po pump track ali BMX progi pravilno voziti\, obvladovati bande\, valove\, …ter različne objekte na progi povezati v celoto. Pump track poligon je odličen teren za spoznavanje osnovnih tehnik kolesarstva in nadgrajevanje znanja\, ki ga uporabljamo tudi pri vožnji v naravi (enoslednice\, traili). Delavnico vodi Boris Režabek\, aktiven tekmovalec v disciplini prostega sloga MTB Slopestyle. \nUdeleženci delavnice morajo biti stari najmanj 18 let. Število prijav je omejeno na 8 udeležencev. Udeleženci se aktivnosti udeležujejo na lastno odgovornost z zavedanjem tveganja\, ki ga s tem prevzamejo. \nOBVEZNA OPREMA: Ustrezno kolo in čelada; ostala zaščitna oprema je priporočljiva.
URL:https://www.kd-rajd.si/event/delavnica-tehnike-voznje-pumpanje-z-borisom-rezabkom-7/
LOCATION:Kolopark Bežigrad\, Slovenija
CATEGORIES:Rekreacija
END:VEVENT
END:VCALENDAR