BEGIN:VCALENDAR
VERSION:2.0
PRODID:-//Rajd - ECPv6.15.20//NONSGML v1.0//EN
CALSCALE:GREGORIAN
METHOD:PUBLISH
X-ORIGINAL-URL:https://www.kd-rajd.si
X-WR-CALDESC:Events for Rajd
REFRESH-INTERVAL;VALUE=DURATION:PT1H
X-Robots-Tag:noindex
X-PUBLISHED-TTL:PT1H
BEGIN:VTIMEZONE
TZID:Europe/Ljubljana
BEGIN:DAYLIGHT
TZOFFSETFROM:+0100
TZOFFSETTO:+0200
TZNAME:CEST
DTSTART:20230326T010000
END:DAYLIGHT
BEGIN:STANDARD
TZOFFSETFROM:+0200
TZOFFSETTO:+0100
TZNAME:CET
DTSTART:20231029T010000
END:STANDARD
BEGIN:DAYLIGHT
TZOFFSETFROM:+0100
TZOFFSETTO:+0200
TZNAME:CEST
DTSTART:20240331T010000
END:DAYLIGHT
BEGIN:STANDARD
TZOFFSETFROM:+0200
TZOFFSETTO:+0100
TZNAME:CET
DTSTART:20241027T010000
END:STANDARD
BEGIN:DAYLIGHT
TZOFFSETFROM:+0100
TZOFFSETTO:+0200
TZNAME:CEST
DTSTART:20250330T010000
END:DAYLIGHT
BEGIN:STANDARD
TZOFFSETFROM:+0200
TZOFFSETTO:+0100
TZNAME:CET
DTSTART:20251026T010000
END:STANDARD
END:VTIMEZONE
BEGIN:VEVENT
DTSTART;TZID=Europe/Ljubljana:20240807T180000
DTEND;TZID=Europe/Ljubljana:20240807T190000
DTSTAMP:20260424T175841
CREATED:20240804T132820Z
LAST-MODIFIED:20240804T132820Z
UID:19254-1723053600-1723057200@www.kd-rajd.si
SUMMARY:Delavnica tehnike vožnje: Zavoji
DESCRIPTION:OBVEZNA PRIJAVA preko spletnega obrazca (klik) \nZBIRNO MESTO: Bike Park Podutik\, pri pavilijonih (https://goo.gl/maps/smXJdoVAazca5vaCA) \nOPIS & NAVODILA: Delavnice tehnike vožnje so kratke enourne delavnice namenjene učenju osnovnih tehnik vožnje z gorskim kolesom in so primerne tako za začetnike\, kot tudi za izkušenejše kolesarje\, ki bi radi izboljšali svoje znanje. Vsebina delavnic je smiselno povezana\, saj se zahtevnost tekom sezone povečuje – od osnovnih elementov do bolj zahtevnih tehnik. Delavnica je primerna tudi za e-kolesa. \nNa delavnici zavojev bomo spoznali tehniko zavijanja\, ki je poleg osnovnih tehnik ključna za varno vožnjo po trailih. Delavnico vodi Žiga Pandur\, eden najboljših učiteljev gorskega kolesarstva pri nas. \nUdeleženci delavnice morajo biti stari najmanj 15 let. Število prijav je omejeno na 8 udeležencev. Udeleženci se aktivnosti udeležujejo na lastno odgovornost z zavedanjem tveganja\, ki ga s tem prevzamejo. \nOBVEZNA OPREMA: Ustrezno kolo in čelada; ostala zaščitna oprema je priporočljiva.
URL:https://www.kd-rajd.si/event/delavnica-tehnike-voznje-zavoji/
LOCATION:Bike Park Ljubljana\, Podutiška cesta 209\, Ljubljana\, 1000\, Slovenia
CATEGORIES:Delavnica tehnike vožnje,Rekreacija
END:VEVENT
BEGIN:VEVENT
DTSTART;TZID=Europe/Ljubljana:20240807T180000
DTEND;TZID=Europe/Ljubljana:20240807T193000
DTSTAMP:20260424T175841
CREATED:20240804T132410Z
LAST-MODIFIED:20240804T132410Z
UID:19252-1723053600-1723059000@www.kd-rajd.si
SUMMARY:Punce furamo: Golovec Trails
DESCRIPTION:OBVEZNA PRIJAVA preko spletnega obrazca (klik) \nZBIRNO MESTO: Hradeckega cesta – začetek Poti na Golovec (https://maps.app.goo.gl/1QwYLSt22ZDNvVTv8) \nOPIS & NAVODILA: Ob sredah furamo punce! Tokrat odkrivamo Golovec\, kjer je zgrajenih približno 8 kilometrov uradnih poti. Tura je primerna tudi za e-gorska kolesa. \nUdeleženke delavnice morajo biti stare najmanj 15 let. Število prijav je omejeno na 8 udeleženk. Udeleženke se aktivnosti udeležujejo na lastno odgovornost z zavedanjem tveganja\, ki ga s tem prevzamejo. \nOBVEZNA OPREMA: Ustrezno kolo in čelada; ostala zaščitna oprema je priporočljiva.
URL:https://www.kd-rajd.si/event/punce-furamo-golovec-trails/
LOCATION:Golovec\, Slovenija
CATEGORIES:MTB izlet,Rajderke,Rekreacija
END:VEVENT
BEGIN:VEVENT
DTSTART;TZID=Europe/Ljubljana:20240821T180000
DTEND;TZID=Europe/Ljubljana:20240821T193000
DTSTAMP:20260424T175841
CREATED:20240817T085315Z
LAST-MODIFIED:20240817T085315Z
UID:19263-1724263200-1724268600@www.kd-rajd.si
SUMMARY:Punce furamo: Golovec Trails
DESCRIPTION:OBVEZNA PRIJAVA preko spletnega obrazca (klik) \nZBIRNO MESTO: Hradeckega cesta – začetek Poti na Golovec (https://maps.app.goo.gl/1QwYLSt22ZDNvVTv8) \nOPIS & NAVODILA: Ob sredah furamo punce! Tokrat odkrivamo Golovec\, kjer je zgrajenih približno 8 kilometrov uradnih poti. Tura je primerna tudi za e-gorska kolesa. \nUdeleženke delavnice morajo biti stare najmanj 15 let. Število prijav je omejeno na 8 udeleženk. Udeleženke se aktivnosti udeležujejo na lastno odgovornost z zavedanjem tveganja\, ki ga s tem prevzamejo. \nOBVEZNA OPREMA: Ustrezno kolo in čelada; ostala zaščitna oprema je priporočljiva.
URL:https://www.kd-rajd.si/event/punce-furamo-golovec-trails-2/
LOCATION:Golovec\, Slovenija
CATEGORIES:MTB izlet,Rajderke,Rekreacija
END:VEVENT
BEGIN:VEVENT
DTSTART;TZID=Europe/Ljubljana:20240823T173000
DTEND;TZID=Europe/Ljubljana:20240823T193000
DTSTAMP:20260424T175841
CREATED:20240817T085626Z
LAST-MODIFIED:20240817T085626Z
UID:19265-1724434200-1724441400@www.kd-rajd.si
SUMMARY:Bike‘n’Beer Friday 2024 No. 11: Toško Čelo / Šentviški hrib
DESCRIPTION:OBVEZNA PRIJAVA preko spletnega obrazca (klik) \nZBIRNO MESTO: Končna postaja LPP št. 5 (https://goo.gl/maps/smXJdoVAazca5vaCA) \nOPIS & NAVODILA: Pridružite se nam na MTB rekreaciji! Tudi tokrat gremo iz Podutika raziskovat stare in nove enoslednice v smeri Toškega Čela in Šentviškega hriba\, odločili pa se bomo glede na želje skupine. Seveda se bomo po končani turi še podružili\, nazdravili in kakšno rekli…SAJ JE PETEK! Tura je primerna tudi za e-gorska kolesa. Udeleženci delavnice morajo biti stari najmanj 15 let. Število prijav je omejeno na 8 udeležencev. Udeleženci se aktivnosti udeležujejo na lastno odgovornost z zavedanjem tveganja\, ki ga s tem prevzamejo. \nOBVEZNA OPREMA: Običajna oprema za gorsko kolesarjenje. Brezhibno gorsko kolo z vsaj sprednjim vzmetenjem\, s profiliranimi plašči (širina nad 2\,2 cm)\, kolesarska čelada\, zaščitne rokavice\, zaščitna očala\, nahrbtnik\, rezervna zračnica\, priročno orodje\, set prve pomoči\, osebni dokument in zdravstvena kartica.
URL:https://www.kd-rajd.si/event/bikenbeer-friday-2024-no-11-tosko-celo-sentviski-hrib/
LOCATION:Toško Čelo\, Slovenija
CATEGORIES:MTB izlet,Rekreacija
END:VEVENT
BEGIN:VEVENT
DTSTART;TZID=Europe/Ljubljana:20240828T180000
DTEND;TZID=Europe/Ljubljana:20240828T193000
DTSTAMP:20260424T175841
CREATED:20240826T061037Z
LAST-MODIFIED:20240827T051929Z
UID:19275-1724868000-1724873400@www.kd-rajd.si
SUMMARY:Punce furamo: Šentviški hrib z gostjo Aleksandro Radosavac (Furam zase)
DESCRIPTION:OBVEZNA PRIJAVA preko spletnega obrazca (klik) \nZBIRNO MESTO: Bike park Ljubljana – pred pavilijoni \nOPIS & NAVODILA: Ob sredah furamo punce! in odkrivale bomo enoslednice sosednjega »Šentviškega hriba« v družbi »nogavičarke« Aleksandre Radosavac iz Furam zase\, ki je tudi navdušena kolesarka in učiteljica/vodnica gorskega kolesarjenja. Tura je primerna tudi za e-gorska kolesa. \nUdeleženke delavnice morajo biti stare najmanj 15 let. Število prijav je omejeno na 8 udeleženk. Udeleženke se aktivnosti udeležujejo na lastno odgovornost z zavedanjem tveganja\, ki ga s tem prevzamejo. \nOBVEZNA OPREMA: Ustrezno kolo in čelada; ostala zaščitna oprema je priporočljiva.
URL:https://www.kd-rajd.si/event/punce-furamo-sentviski-hrib/
LOCATION:Bike Park Ljubljana\, Podutiška cesta 209\, Ljubljana\, 1000\, Slovenia
CATEGORIES:MTB izlet,Rajderke,Rekreacija
END:VEVENT
BEGIN:VEVENT
DTSTART;TZID=Europe/Ljubljana:20240830T173000
DTEND;TZID=Europe/Ljubljana:20240830T193000
DTSTAMP:20260424T175841
CREATED:20240826T061250Z
LAST-MODIFIED:20240826T061250Z
UID:19277-1725039000-1725046200@www.kd-rajd.si
SUMMARY:Bike‘n’Beer Friday 2024 No. 12: Bike park Ljubljana & Klobuk
DESCRIPTION:OBVEZNA PRIJAVA preko spletnega obrazca (klik) \nZBIRNO MESTO: Končna postaja LPP št. 5 (https://goo.gl/maps/smXJdoVAazca5vaCA) \nOPIS & NAVODILA: Vstopite v vikend\, “kot se šika” – pridružite se nam na MTB rekreaciji! Tokratni petek nas bo popeljal po “klasični domači” – prek Klobuka\, po Duletovi in Primorski\, do podutiškega Bike parka. Ker bo petek in bo teden za nami\, bomo po rajdu tudi nazdravi z kozarcem hladnega. Tura je primerna tudi za e-gorska kolesa. Udeleženci delavnice morajo biti stari najmanj 15 let. Število prijav je omejeno na 8 udeležencev. Udeleženci se aktivnosti udeležujejo na lastno odgovornost z zavedanjem tveganja\, ki ga s tem prevzamejo. \nOBVEZNA OPREMA: Običajna oprema za gorsko kolesarjenje. Brezhibno gorsko kolo z vsaj sprednjim vzmetenjem\, s profiliranimi plašči (širina nad 2\,2 cm)\, kolesarska čelada\, zaščitne rokavice\, zaščitna očala\, nahrbtnik\, rezervna zračnica\, priročno orodje\, set prve pomoči\, osebni dokument in zdravstvena kartica.
URL:https://www.kd-rajd.si/event/bikenbeer-friday-2024-no-12-bike-park-ljubljana-klobuk/
LOCATION:Bike Park Ljubljana\, Podutiška cesta 209\, Ljubljana\, 1000\, Slovenia
CATEGORIES:MTB izlet,Rekreacija
END:VEVENT
END:VCALENDAR