BEGIN:VCALENDAR
VERSION:2.0
PRODID:-//Rajd - ECPv6.15.20//NONSGML v1.0//EN
CALSCALE:GREGORIAN
METHOD:PUBLISH
X-WR-CALNAME:Rajd
X-ORIGINAL-URL:https://www.kd-rajd.si
X-WR-CALDESC:Events for Rajd
REFRESH-INTERVAL;VALUE=DURATION:PT1H
X-Robots-Tag:noindex
X-PUBLISHED-TTL:PT1H
BEGIN:VTIMEZONE
TZID:Europe/Ljubljana
BEGIN:DAYLIGHT
TZOFFSETFROM:+0100
TZOFFSETTO:+0200
TZNAME:CEST
DTSTART:20230326T010000
END:DAYLIGHT
BEGIN:STANDARD
TZOFFSETFROM:+0200
TZOFFSETTO:+0100
TZNAME:CET
DTSTART:20231029T010000
END:STANDARD
BEGIN:DAYLIGHT
TZOFFSETFROM:+0100
TZOFFSETTO:+0200
TZNAME:CEST
DTSTART:20240331T010000
END:DAYLIGHT
BEGIN:STANDARD
TZOFFSETFROM:+0200
TZOFFSETTO:+0100
TZNAME:CET
DTSTART:20241027T010000
END:STANDARD
BEGIN:DAYLIGHT
TZOFFSETFROM:+0100
TZOFFSETTO:+0200
TZNAME:CEST
DTSTART:20250330T010000
END:DAYLIGHT
BEGIN:STANDARD
TZOFFSETFROM:+0200
TZOFFSETTO:+0100
TZNAME:CET
DTSTART:20251026T010000
END:STANDARD
END:VTIMEZONE
BEGIN:VEVENT
DTSTART;TZID=Europe/Ljubljana:20240605T180000
DTEND;TZID=Europe/Ljubljana:20240605T190000
DTSTAMP:20260424T210228
CREATED:20240602T182219Z
LAST-MODIFIED:20240602T182219Z
UID:19101-1717610400-1717614000@www.kd-rajd.si
SUMMARY:Pandurjeva delavnica: skoki
DESCRIPTION:OBVEZNA PRIJAVA preko spletnega obrazca (klik) \nTEŽAVNOST: srednja (rdeča) – aktivnost je primerna za kolesarje z nekaj izkušnjami\, za udeležbo priporočamo primerno predznanje osnovnih tehnik gorskega kolesarstva (osnovni položaj\, zaviranje\, zavijanje). \nZBIRNO MESTO: Bike Park Podutik\, pri pavilijonih (https://goo.gl/maps/smXJdoVAazca5vaCA) \nOPIS & NAVODILA: Pandurjeve delavnice so kratke enourne delavnice z namenom učenja osnovnih tehnik pravilne vožnje s kolesom. Vsebina delavnic je smiselno povezana in sicer tako\, da se zahtevnost tekom sezone povečuje – od osnovnih elementov do bolj zahtevnih tehnik. Delavnico vodi Žiga Pandur\, eden najboljših učiteljev gorskega kolesarstva pri nas.\nUdeleženci delavnice morajo biti stari najmanj 15 let. Število prijav je omejeno na 8 udeležencev. Udeleženci se aktivnosti udeležujejo na lastno odgovornost z zavedanjem tveganja\, ki ga s tem prevzamejo. \nOBVEZNA OPREMA: Ustrezno kolo in čelada; ostala zaščitna oprema je priporočljiva.
URL:https://www.kd-rajd.si/event/pandurjeva-delavnica-skoki/
LOCATION:Bike Park Ljubljana\, Podutiška cesta 209\, Ljubljana\, 1000\, Slovenia
CATEGORIES:Delavnica tehnike vožnje,Rekreacija
END:VEVENT
BEGIN:VEVENT
DTSTART;TZID=Europe/Ljubljana:20240605T180000
DTEND;TZID=Europe/Ljubljana:20240605T193000
DTSTAMP:20260424T210228
CREATED:20240602T174118Z
LAST-MODIFIED:20240602T174118Z
UID:19099-1717610400-1717615800@www.kd-rajd.si
SUMMARY:Punce furamo: Toško Čelo
DESCRIPTION:OBVEZNA PRIJAVA preko spletnega obrazca (klik) \nTEŽAVNOST: srednja (rdeča) – aktivnost je primerna za kolesarke z nekaj izkušnjami\, za udeležbo priporočamo primerno predznanje osnovnih tehnik gorskega kolesarstva (osnovni položaj\, zaviranje\, zavijanje). \nZBIRNO MESTO: Bike Park Podutik\, pri pavilijonih (https://goo.gl/maps/smXJdoVAazca5vaCA) \nOPIS & NAVODILA: Ob sredah furamo punce! Zdaj je čas\, da spoznamo še okolico Bike parka Ljubljana\, zato se bomo povzpele na Toško Čelo in raziskovale poti sosednjega hriba. Tura je primerna tudi za e-gorska kolesa.\nUdeleženke delavnice morajo biti stare najmanj 15 let. Število prijav je omejeno na 8 udeleženk. Udeleženke se aktivnosti udeležujejo na lastno odgovornost z zavedanjem tveganja\, ki ga s tem prevzamejo. \nOBVEZNA OPREMA: Ustrezno kolo in čelada; ostala zaščitna oprema je priporočljiva.
URL:https://www.kd-rajd.si/event/punce-furamo-tosko-celo/
LOCATION:Toško Čelo\, Slovenija
CATEGORIES:MTB izlet,Rajderke,Rekreacija
END:VEVENT
BEGIN:VEVENT
DTSTART;TZID=Europe/Ljubljana:20240607T173000
DTEND;TZID=Europe/Ljubljana:20240607T190000
DTSTAMP:20260424T210228
CREATED:20240602T174112Z
LAST-MODIFIED:20240602T174112Z
UID:19104-1717781400-1717786800@www.kd-rajd.si
SUMMARY:Bike‘n’Beer Friday 2024 No. 7: Bike park Ljubljana / Toško Čelo
DESCRIPTION:OBVEZNA PRIJAVA preko spletnega obrazca (klik) \nTEŽAVNOST: srednja (rdeča) – aktivnost je primerna za kolesarje z nekaj izkušnjami\, za udeležbo priporočamo primerno predznanje osnovnih tehnik gorskega kolesarstva (osnovni položaj\, zaviranje\, zavijanje). \nZBIRNO MESTO: Končna postaja LPP št. 5 (https://goo.gl/maps/smXJdoVAazca5vaCA) \nOPIS & NAVODILA: Vstopite v vikend\, “kot se šika” – pridružite se nam na MTB rekreaciji! Tokrat gremo iz Podutika raziskovat stare in nove enoslednice v smeri Toškega Čela in Šentviškega hriba\, odločili pa se bomo glede na želje skupine. Seveda se bomo po končani turi še podružili\, nazdravili in kakšno rekli…SAJ JE PETEK! Tura je primerna tudi za e-gorska kolesa. Udeleženci delavnice morajo biti stari najmanj 15 let. Število prijav je omejeno na 8 udeležencev. Udeleženci se aktivnosti udeležujejo na lastno odgovornost z zavedanjem tveganja\, ki ga s tem prevzamejo. \nOBVEZNA OPREMA: Običajna oprema za gorsko kolesarjenje. Brezhibno gorsko kolo z vsaj sprednjim vzmetenjem\, s profiliranimi plašči (širina nad 2\,2 cm)\, kolesarska čelada\, zaščitne rokavice\, zaščitna očala\, nahrbtnik\, rezervna zračnica\, priročno orodje\, set prve pomoči\, osebni dokument in zdravstvena kartica.
URL:https://www.kd-rajd.si/event/bikenbeer-friday-2024-no-7-bike-park-ljubljana-tosko-celo-2/
LOCATION:Toško Čelo\, Slovenija
CATEGORIES:MTB izlet,Rekreacija
END:VEVENT
BEGIN:VEVENT
DTSTART;TZID=Europe/Ljubljana:20240610T163000
DTEND;TZID=Europe/Ljubljana:20240610T173000
DTSTAMP:20260424T210228
CREATED:20240602T174057Z
LAST-MODIFIED:20240602T174057Z
UID:19106-1718037000-1718040600@www.kd-rajd.si
SUMMARY:Gremo na kolo: Delavnica osnovnih tehnik vožnje po pumptrack poligonu / KoloParku
DESCRIPTION:PRIJAVA NI POTREBNA \nTEŽAVNOST: lahka (modra) – aktivnost je primerna za začetnike\, za udeležbo ne potrebujete posebnega predznanja gorskega kolesarstva. \nZBIRNO MESTO: KoloPark Spodnja Šiška (pri Lepi žogi) \nOPIS & NAVODILA: Skupinski trening in predpriprava na KoloPark Pokal Spodnja Šiška\, ki bo potekalo 11.6.2024. \nOBVEZNA OPREMA: Običajna oprema za gorsko kolesarjenje. Brezhibno gorsko kolo z vsaj sprednjim vzmetenjem\, s profiliranimi plašči (širina nad 2\,2 cm)\, kolesarska čelada\, zaščitne rokavice\, zaščitna očala\, nahrbtnik\, rezervna zračnica\, priročno orodje\, set prve pomoči\, osebni dokument in zdravstvena kartica.
URL:https://www.kd-rajd.si/event/gremo-na-kolo-delavnica-osnovnih-tehnik-voznje-po-pumptrack-poligonu-koloparku-5/
LOCATION:Kolopark Spodnja Šiška\, Slovenija
CATEGORIES:Gremo na Kolo,Rekreacija
END:VEVENT
BEGIN:VEVENT
DTSTART;TZID=Europe/Ljubljana:20240611T160000
DTEND;TZID=Europe/Ljubljana:20240611T180000
DTSTAMP:20260424T210228
CREATED:20240602T174047Z
LAST-MODIFIED:20240610T174712Z
UID:19108-1718121600-1718128800@www.kd-rajd.si
SUMMARY:Gremo na kolo: Argeta Junior KoloPark Pokal Spodnja Šiška [PRESTAVLJENO NA KASNEJŠI DATUM]
DESCRIPTION:ZBIRNO MESTO: KoloPark Spodnja Šiška (pri Lepi žogi) \nOPIS & NAVODILA: V sezoni 2024 nadaljujemo s serijo zabavnih kolesarskih prireditev s katerimi želimo povezati vse nadebudne kolesarje ter vse ljubljanske KoloParke. Pokal je v prvi vrsti namenjen otrokom in mladini\, dobrodošli pa ste seveda tudi vsi starejši/starši (30+). Najbolj močno si želimo sodelovanja mladih kolesarjev\, ki si želijo na zabaven in sproščen način spoznati s tekmovalnim okoljem. Mnogi izmed vas pa imate tudi že licence\, zato smo tudi v tem letu razpisali kategorijo samo za vas. V želji po sproščenih prireditvah za vse tudi ni skupnega zmagovalca serije\, seveda pa ste vsi vabljeni\, da se nam pridružite na vseh lokacijah\, kajti med tistimi\, ki boste prisotni na vseh prireditvah bomo na koncu izžrebali bogate nagrade. Z nami bosta tudi ambasadorja projekta\, vrhunska kolesarja Jaka Remec in Boris Režabek; prvi se prebija v svetovno elito discipline BMX freestyle\, drugi je stalen gost največjih tekmovanj v disciplini slopestyle. Oba pa sta vodnjaka znanja na področju kolesarjenja in bosta delila nasvete ter poskrbela za dobro vzdušje. \nPokal bo potekal na sedmih prizoriščih\, vedno z enakim konceptom. Vsak udeleženec ima dve priložnosti odpeljati najhitrejši možen krog\, v končne rezultate se seveda zabeleži boljši čas. Zmagovalec dneva je posameznik ali posameznica z najboljšim časom dneva. Četrta prireditev v seriji bo potekala 11. junija na KoloParku Spodnja Šiška (Tivoli\, pri Lepi Žogi)\, in sicer po naslednjem programu:\n16.00-16.30 – Prijave\n16.00-16.30 – Trening\n16.30-17.30 – Tekmovanje\nSledi podelitev darilnih vrečk in zaključek \nVeč o pokalu: https://www.kd-rajd.si/kolopark-pokal/
URL:https://www.kd-rajd.si/event/gremo-na-kolo-argeta-junior-kolopark-pokal-spodnja-siska/
LOCATION:Kolopark Spodnja Šiška\, Slovenija
CATEGORIES:Gremo na Kolo,Rekreacija
ATTACH;FMTTYPE=image/jpeg:https://www.kd-rajd.si/wp-content/uploads/2024/06/Kolopark-POKAL-1080-x-1080p-junij.jpg
END:VEVENT
BEGIN:VEVENT
DTSTART;TZID=Europe/Ljubljana:20240612T180000
DTEND;TZID=Europe/Ljubljana:20240612T190000
DTSTAMP:20260424T210228
CREATED:20240607T200737Z
LAST-MODIFIED:20240607T200737Z
UID:19150-1718215200-1718218800@www.kd-rajd.si
SUMMARY:Pandurjeva delavnica: skoki - ponovitev
DESCRIPTION:OBVEZNA PRIJAVA preko spletnega obrazca (klik) \nTEŽAVNOST: srednja (rdeča) – aktivnost je primerna za kolesarje z nekaj izkušnjami\, za udeležbo priporočamo primerno predznanje osnovnih tehnik gorskega kolesarstva (osnovni položaj\, zaviranje\, zavijanje). \nZBIRNO MESTO: Bike Park Podutik\, pri pavilijonih (https://goo.gl/maps/smXJdoVAazca5vaCA) \nOPIS & NAVODILA: Pandurjeve delavnice so kratke enourne delavnice z namenom učenja osnovnih tehnik pravilne vožnje s kolesom. Vsebina delavnic je smiselno povezana in sicer tako\, da se zahtevnost tekom sezone povečuje – od osnovnih elementov do bolj zahtevnih tehnik. Delavnico vodi Žiga Pandur\, eden najboljših učiteljev gorskega kolesarstva pri nas.\nUdeleženci delavnice morajo biti stari najmanj 15 let. Število prijav je omejeno na 8 udeležencev. Udeleženci se aktivnosti udeležujejo na lastno odgovornost z zavedanjem tveganja\, ki ga s tem prevzamejo. \nOBVEZNA OPREMA: Ustrezno kolo in čelada; ostala zaščitna oprema je priporočljiva.
URL:https://www.kd-rajd.si/event/pandurjeva-delavnica-skoki-ponovitev/
LOCATION:Bike Park Ljubljana\, Podutiška cesta 209\, Ljubljana\, 1000\, Slovenia
CATEGORIES:Delavnica tehnike vožnje,Rekreacija
END:VEVENT
BEGIN:VEVENT
DTSTART;TZID=Europe/Ljubljana:20240612T190000
DTEND;TZID=Europe/Ljubljana:20240612T203000
DTSTAMP:20260424T210228
CREATED:20240607T200723Z
LAST-MODIFIED:20240607T200723Z
UID:19147-1718218800-1718224200@www.kd-rajd.si
SUMMARY:Punce furamo: Klobuk
DESCRIPTION:OBVEZNA PRIJAVA preko spletnega obrazca (klik) \nTEŽAVNOST: srednja (rdeča) – aktivnost je primerna za kolesarke z nekaj izkušnjami\, za udeležbo priporočamo primerno predznanje osnovnih tehnik gorskega kolesarstva (osnovni položaj\, zaviranje\, zavijanje). \nZBIRNO MESTO: Bike Park Podutik\, pri pavilijonih (https://goo.gl/maps/smXJdoVAazca5vaCA) \nOPIS & NAVODILA: Ob sredah furamo punce! V tokratni izvedbi se bomo podile po Klobuku. Pred izletom si vabljena še na Pandurjevo delavnico skokov\, da bomo furale še varneje – za obe aktivnosti je prijava obvezna. Tura je primerna tudi za e-gorska kolesa.\nUdeleženke delavnice morajo biti stare najmanj 15 let. Število prijav je omejeno na 8 udeleženk. Udeleženke se aktivnosti udeležujejo na lastno odgovornost z zavedanjem tveganja\, ki ga s tem prevzamejo. \nOBVEZNA OPREMA: Ustrezno kolo in čelada; ostala zaščitna oprema je priporočljiva.
URL:https://www.kd-rajd.si/event/punce-furamo-klobuk-3/
LOCATION:Klobuk\, Slovenija
CATEGORIES:MTB izlet,Rajderke,Rekreacija
END:VEVENT
BEGIN:VEVENT
DTSTART;TZID=Europe/Ljubljana:20240613T190000
DTEND;TZID=Europe/Ljubljana:20240613T200000
DTSTAMP:20260424T210228
CREATED:20240607T200652Z
LAST-MODIFIED:20240607T200652Z
UID:19152-1718305200-1718308800@www.kd-rajd.si
SUMMARY:Nočni sešn na KoloParku Podutik
DESCRIPTION:OBVEZNA PRIJAVA preko spletnega obrazca (klik). \nTEŽAVNOST: lahka (modra) – aktivnost je primerna za začetnike\, za udeležbo ne potrebujete posebnega predznanja gorskega kolesarstva. \nZBIRNO MESTO: KoloPark Podutik \nOPIS & NAVODILA: Pripelji svoje kolo in pumpaj z nami na grbinah in zavojih KoloParka Podutik. Razširi besedo\, da se nas bo zabavalo čim več.\nUdeleženci delavnice morajo biti stari najmanj 16 let. Udeleženci se aktivnosti udeležujejo na lastno odgovornost z zavedanjem tveganja\, ki ga s tem prevzamejo. \nOBVEZNA OPREMA: ustrezno kolo in čelada; ostala zaščitna oprema je priporočljiva. \n  \n 
URL:https://www.kd-rajd.si/event/nocni-sesn-na-koloparku-podutik-2/
LOCATION:KoloPark Podutik\, Dolniška cesta\, Ljubljana\, 1000\, Slovenia
CATEGORIES:Furanje,Rekreacija
END:VEVENT
BEGIN:VEVENT
DTSTART;TZID=Europe/Ljubljana:20240614T173000
DTEND;TZID=Europe/Ljubljana:20240614T193000
DTSTAMP:20260424T210228
CREATED:20240607T200631Z
LAST-MODIFIED:20240607T200631Z
UID:19145-1718386200-1718393400@www.kd-rajd.si
SUMMARY:Bike‘n’Beer Friday 2024 No. 8: Bike park Ljubljana / Klobuk / Toško Čelo / Šentviški hrib
DESCRIPTION:OBVEZNA PRIJAVA preko spletnega obrazca (klik) \nTEŽAVNOST: srednja (rdeča) – aktivnost je primerna za kolesarje z nekaj izkušnjami\, za udeležbo priporočamo primerno predznanje osnovnih tehnik gorskega kolesarstva (osnovni položaj\, zaviranje\, zavijanje). \nZBIRNO MESTO: Končna postaja LPP št. 5 (https://goo.gl/maps/smXJdoVAazca5vaCA) \nOPIS & NAVODILA: BIKE ‘N’ BEER FRIDAY je vedno dobra ideja! Dobimo se v Bike parku Podutik in se na licu mesta zmenimo\, v katero smer jo mahnemo – proti Klobuku\, Toškemu Čelu ali na Šentviški hrib. Starih in novih trejlov je več kot dovolj za raziskovanje\, ki ga bomo prilagodili željam skupine. Vsekakor pa bomo rajd zaključili\, kot se spodobi – ob kozarcu hladnega! Tura je primerna tudi za e-gorska kolesa. Udeleženci delavnice morajo biti stari najmanj 15 let. Število prijav je omejeno na 8 udeležencev. Udeleženci se aktivnosti udeležujejo na lastno odgovornost z zavedanjem tveganja\, ki ga s tem prevzamejo. \nOBVEZNA OPREMA: Običajna oprema za gorsko kolesarjenje. Brezhibno gorsko kolo z vsaj sprednjim vzmetenjem\, s profiliranimi plašči (širina nad 2\,2 cm)\, kolesarska čelada\, zaščitne rokavice\, zaščitna očala\, nahrbtnik\, rezervna zračnica\, priročno orodje\, set prve pomoči\, osebni dokument in zdravstvena kartica.
URL:https://www.kd-rajd.si/event/bikenbeer-friday-2024-no-8-bike-park-ljubljana-klobuk-tosko-celo-sentviski-hrib/
LOCATION:Bike Park Ljubljana\, Podutiška cesta 209\, Ljubljana\, 1000\, Slovenia
CATEGORIES:MTB izlet,Rekreacija
END:VEVENT
BEGIN:VEVENT
DTSTART;TZID=Europe/Ljubljana:20240617T163000
DTEND;TZID=Europe/Ljubljana:20240617T173000
DTSTAMP:20260424T210228
CREATED:20240607T200503Z
LAST-MODIFIED:20240607T200503Z
UID:19160-1718641800-1718645400@www.kd-rajd.si
SUMMARY:Gremo na kolo: Delavnica osnovnih tehnik vožnje po pumptrack poligonu / KoloParku
DESCRIPTION:PRIJAVA NI POTREBNA \nTEŽAVNOST: lahka (modra) – aktivnost je primerna za začetnike\, za udeležbo ne potrebujete posebnega predznanja gorskega kolesarstva. \nZBIRNO MESTO: KoloPark Nove Fužine (pri OŠ Nove Fužine) \nOPIS & NAVODILA: Skupinski trening in predpriprava na KoloPark Pokal Nove Fužine\, ki bo potekalo 18.6.2024. \nOBVEZNA OPREMA: Običajna oprema za gorsko kolesarjenje. Brezhibno gorsko kolo z vsaj sprednjim vzmetenjem\, s profiliranimi plašči (širina nad 2\,2 cm)\, kolesarska čelada\, zaščitne rokavice\, zaščitna očala\, nahrbtnik\, rezervna zračnica\, priročno orodje\, set prve pomoči\, osebni dokument in zdravstvena kartica.
URL:https://www.kd-rajd.si/event/gremo-na-kolo-delavnica-osnovnih-tehnik-voznje-po-pumptrack-poligonu-koloparku-6/
LOCATION:Kolopark Nove Fužine\, Slovenija
CATEGORIES:Gremo na Kolo,Rekreacija
END:VEVENT
BEGIN:VEVENT
DTSTART;TZID=Europe/Ljubljana:20240618T160000
DTEND;TZID=Europe/Ljubljana:20240618T180000
DTSTAMP:20260424T210228
CREATED:20240607T200447Z
LAST-MODIFIED:20240614T083341Z
UID:19154-1718726400-1718733600@www.kd-rajd.si
SUMMARY:Gremo na kolo: Argeta Junior KoloPark Pokal Nove Fužine
DESCRIPTION:ZBIRNO MESTO: KoloPark Nove Fužine (pri OŠ Nove Fužine) \nOPIS & NAVODILA: V sezoni 2024 nadaljujemo s serijo zabavnih kolesarskih prireditev s katerimi želimo povezati vse nadebudne kolesarje ter vse ljubljanske KoloParke. Pokal je v prvi vrsti namenjen otrokom in mladini\, dobrodošli pa ste seveda tudi vsi starejši/starši (30+). Najbolj močno si želimo sodelovanja mladih kolesarjev\, ki si želijo na zabaven in sproščen način spoznati s tekmovalnim okoljem. Mnogi izmed vas pa imate tudi že licence\, zato smo tudi v tem letu razpisali kategorijo samo za vas. V želji po sproščenih prireditvah za vse tudi ni skupnega zmagovalca serije\, seveda pa ste vsi vabljeni\, da se nam pridružite na vseh lokacijah\, kajti med tistimi\, ki boste prisotni na vseh prireditvah bomo na koncu izžrebali bogate nagrade. Z nami bosta tudi ambasadorja projekta\, vrhunska kolesarja Jaka Remec in Boris Režabek; prvi se prebija v svetovno elito discipline BMX freestyle\, drugi je stalen gost največjih tekmovanj v disciplini slopestyle. Oba pa sta vodnjaka znanja na področju kolesarjenja in bosta delila nasvete ter poskrbela za dobro vzdušje. \nPokal bo potekal na sedmih prizoriščih\, vedno z enakim konceptom. Vsak udeleženec ima dve priložnosti odpeljati najhitrejši možen krog\, v končne rezultate se seveda zabeleži boljši čas. Zmagovalec dneva je posameznik ali posameznica z najboljšim časom dneva. Četrta prireditev v seriji bo potekala 18. junija na KoloParku Nove Fužine (pri OŠ Nove Fužine)\, in sicer po naslednjem programu:\n16.00-16.30 – Prijave\n16.00-16.30 – Trening\n16.30-17.30 – Tekmovanje\nSledi podelitev darilnih vrečk in zaključek \nVeč o pokalu: https://www.kd-rajd.si/kolopark-pokal/
URL:https://www.kd-rajd.si/event/gremo-na-kolo-argeta-junior-kolopark-pokal-nove-fuzine-3/
LOCATION:Kolopark Nove Fužine\, Slovenija
CATEGORIES:Gremo na Kolo,Rekreacija
ATTACH;FMTTYPE=image/jpeg:https://www.kd-rajd.si/wp-content/uploads/2024/06/Kolopark-POKAL-1080-x-1080p-junij-1.jpg
END:VEVENT
BEGIN:VEVENT
DTSTART;TZID=Europe/Ljubljana:20240619T180000
DTEND;TZID=Europe/Ljubljana:20240619T190000
DTSTAMP:20260424T210228
CREATED:20240616T080342Z
LAST-MODIFIED:20240616T080342Z
UID:19172-1718820000-1718823600@www.kd-rajd.si
SUMMARY:Pandurjeva delavnica: tehnični odseki
DESCRIPTION:OBVEZNA PRIJAVA preko spletnega obrazca (klik) \nTEŽAVNOST: srednja (rdeča) – aktivnost je primerna za kolesarje z nekaj izkušnjami\, za udeležbo priporočamo primerno predznanje osnovnih tehnik gorskega kolesarstva (osnovni položaj\, zaviranje\, zavijanje). \nZBIRNO MESTO: Bike Park Podutik\, pri pavilijonih (https://goo.gl/maps/smXJdoVAazca5vaCA) \nOPIS & NAVODILA: Pandurjeve delavnice so kratke enourne delavnice z namenom učenja osnovnih tehnik pravilne vožnje s kolesom. Vsebina delavnic je smiselno povezana in sicer tako\, da se zahtevnost tekom sezone povečuje – od osnovnih elementov do bolj zahtevnih tehnik. Delavnico vodi Žiga Pandur\, eden najboljših učiteljev gorskega kolesarstva pri nas.\nUdeleženci delavnice morajo biti stari najmanj 15 let. Število prijav je omejeno na 8 udeležencev. Udeleženci se aktivnosti udeležujejo na lastno odgovornost z zavedanjem tveganja\, ki ga s tem prevzamejo. \nOBVEZNA OPREMA: Ustrezno kolo in čelada; ostala zaščitna oprema je priporočljiva.
URL:https://www.kd-rajd.si/event/pandurjeva-delavnica-tehnicni-odseki/
LOCATION:Bike Park Ljubljana\, Podutiška cesta 209\, Ljubljana\, 1000\, Slovenia
CATEGORIES:Delavnica tehnike vožnje,Rekreacija
END:VEVENT
BEGIN:VEVENT
DTSTART;TZID=Europe/Ljubljana:20240619T190000
DTEND;TZID=Europe/Ljubljana:20240619T200000
DTSTAMP:20260424T210228
CREATED:20240616T080335Z
LAST-MODIFIED:20240616T080335Z
UID:19174-1718823600-1718827200@www.kd-rajd.si
SUMMARY:Punce furamo: Toško Čelo
DESCRIPTION:OBVEZNA PRIJAVA preko spletnega obrazca (klik) \nTEŽAVNOST: srednja (rdeča) – aktivnost je primerna za kolesarke z nekaj izkušnjami\, za udeležbo priporočamo primerno predznanje osnovnih tehnik gorskega kolesarstva (osnovni položaj\, zaviranje\, zavijanje). \nZBIRNO MESTO: Bike Park Podutik\, pri pavilijonih (https://goo.gl/maps/smXJdoVAazca5vaCA) \nOPIS & NAVODILA: Ob sredah furamo punce! in gremo na sosednji hrib\, kjer bomo odkrivale poti po Toškem Čelu. Pred izletom si vabljena še na Pandurjevo delavnico tehnični odseki\, da bomo furale še bolj gladko. Tura je primerna tudi za e-gorska kolesa.\nUdeleženke delavnice morajo biti stare najmanj 15 let. Število prijav je omejeno na 8 udeleženk. Udeleženke se aktivnosti udeležujejo na lastno odgovornost z zavedanjem tveganja\, ki ga s tem prevzamejo. \nOBVEZNA OPREMA: Ustrezno kolo in čelada; ostala zaščitna oprema je priporočljiva.
URL:https://www.kd-rajd.si/event/punce-furamo-tosko-celo-2/
LOCATION:Toško Čelo\, Slovenija
CATEGORIES:MTB izlet,Rajderke,Rekreacija
END:VEVENT
BEGIN:VEVENT
DTSTART;TZID=Europe/Ljubljana:20240621T173000
DTEND;TZID=Europe/Ljubljana:20240621T193000
DTSTAMP:20260424T210228
CREATED:20240616T080331Z
LAST-MODIFIED:20240616T080331Z
UID:19177-1718991000-1718998200@www.kd-rajd.si
SUMMARY:Bike‘n’Beer Friday 2024 No. 8: Bike park Ljubljana / Klobuk / Toško Čelo / Šentviški hrib
DESCRIPTION:OBVEZNA PRIJAVA preko spletnega obrazca (klik) \nTEŽAVNOST: srednja (rdeča) – aktivnost je primerna za kolesarje z nekaj izkušnjami\, za udeležbo priporočamo primerno predznanje osnovnih tehnik gorskega kolesarstva (osnovni položaj\, zaviranje\, zavijanje). \nZBIRNO MESTO: Končna postaja LPP št. 5 (https://goo.gl/maps/smXJdoVAazca5vaCA) \nOPIS & NAVODILA: Petek prihaja\, to lahko pomeni samo eno stvar: BIKE ‘N’ BEER FRIDAY! Dobimo se v Bike parku Podutik in se na licu mesta zmenimo\, v katero smer jo mahnemo – proti Klobuku\, Toškemu Čelu ali na Šentviški hrib. Podvig bomo prilagodili skupini\, vsekakor pa bomo rajd zaključili\, kot se spodobi – ob kozarcu hladnega! Tura je primerna tudi za e-gorska kolesa Tura je primerna tudi za e-gorska kolesa. Udeleženci delavnice morajo biti stari najmanj 15 let. Število prijav je omejeno na 8 udeležencev. Udeleženci se aktivnosti udeležujejo na lastno odgovornost z zavedanjem tveganja\, ki ga s tem prevzamejo. \nOBVEZNA OPREMA: Običajna oprema za gorsko kolesarjenje. Brezhibno gorsko kolo z vsaj sprednjim vzmetenjem\, s profiliranimi plašči (širina nad 2\,2 cm)\, kolesarska čelada\, zaščitne rokavice\, zaščitna očala\, nahrbtnik\, rezervna zračnica\, priročno orodje\, set prve pomoči\, osebni dokument in zdravstvena kartica.
URL:https://www.kd-rajd.si/event/bikenbeer-friday-2024-no-8-bike-park-ljubljana-klobuk-tosko-celo-sentviski-hrib-2/
LOCATION:Bike Park Ljubljana\, Podutiška cesta 209\, Ljubljana\, 1000\, Slovenia
CATEGORIES:MTB izlet,Rekreacija
END:VEVENT
BEGIN:VEVENT
DTSTART;TZID=Europe/Ljubljana:20240628T173000
DTEND;TZID=Europe/Ljubljana:20240628T193000
DTSTAMP:20260424T210228
CREATED:20240621T210107Z
LAST-MODIFIED:20240621T210107Z
UID:19191-1719595800-1719603000@www.kd-rajd.si
SUMMARY:Bike‘n’Beer Friday 2024 No. 9: Golovec
DESCRIPTION:OBVEZNA PRIJAVA preko spletnega obrazca (klik) \nTEŽAVNOST: srednja (rdeča) – aktivnost je primerna za kolesarje z nekaj izkušnjami\, za udeležbo priporočamo primerno predznanje osnovnih tehnik gorskega kolesarstva (osnovni položaj\, zaviranje\, zavijanje). \nZBIRNO MESTO: Urban Ring ob Dolenjski cesti (https://goo.gl/maps/Qm1BsyVNwFq7Ednv7) \nOPIS & NAVODILA: Tokrat bomo teden “začinili” s skokom na Golovec\, kjer je zabavnih stezic več kot dovolj. Po turi seveda sledi regeneracija ob kozarčku piva! Tura je primerna tudi za e-gorska kolesa. Udeleženci delavnice morajo biti stari najmanj 15 let. Število prijav je omejeno na 8 udeležencev. Udeleženci se aktivnosti udeležujejo na lastno odgovornost z zavedanjem tveganja\, ki ga s tem prevzamejo. \nOBVEZNA OPREMA: Običajna oprema za gorsko kolesarjenje. Brezhibno gorsko kolo z vsaj sprednjim vzmetenjem\, s profiliranimi plašči (širina nad 2\,2 cm)\, kolesarska čelada\, zaščitne rokavice\, zaščitna očala\, nahrbtnik\, rezervna zračnica\, priročno orodje\, set prve pomoči\, osebni dokument in zdravstvena kartica.
URL:https://www.kd-rajd.si/event/bikenbeer-friday-2024-no-9-golovec/
LOCATION:Golovec\, Slovenija
CATEGORIES:MTB izlet,Rekreacija
END:VEVENT
END:VCALENDAR